BEGIN:VCALENDAR
VERSION:2.0
PRODID:-//Heisa Feesten - ECPv6.15.20//NONSGML v1.0//EN
CALSCALE:GREGORIAN
METHOD:PUBLISH
X-ORIGINAL-URL:https://test.heisafeesten.info
X-WR-CALDESC:Evenementen voor Heisa Feesten
REFRESH-INTERVAL;VALUE=DURATION:PT1H
X-Robots-Tag:noindex
X-PUBLISHED-TTL:PT1H
BEGIN:VTIMEZONE
TZID:Europe/Amsterdam
BEGIN:DAYLIGHT
TZOFFSETFROM:+0100
TZOFFSETTO:+0200
TZNAME:CEST
DTSTART:20210328T010000
END:DAYLIGHT
BEGIN:STANDARD
TZOFFSETFROM:+0200
TZOFFSETTO:+0100
TZNAME:CET
DTSTART:20211031T010000
END:STANDARD
BEGIN:DAYLIGHT
TZOFFSETFROM:+0100
TZOFFSETTO:+0200
TZNAME:CEST
DTSTART:20220327T010000
END:DAYLIGHT
BEGIN:STANDARD
TZOFFSETFROM:+0200
TZOFFSETTO:+0100
TZNAME:CET
DTSTART:20221030T010000
END:STANDARD
BEGIN:DAYLIGHT
TZOFFSETFROM:+0100
TZOFFSETTO:+0200
TZNAME:CEST
DTSTART:20230326T010000
END:DAYLIGHT
BEGIN:STANDARD
TZOFFSETFROM:+0200
TZOFFSETTO:+0100
TZNAME:CET
DTSTART:20231029T010000
END:STANDARD
END:VTIMEZONE
BEGIN:VEVENT
DTSTART;TZID=Europe/Amsterdam:20220603T210000
DTEND;TZID=Europe/Amsterdam:20220604T010000
DTSTAMP:20260425T185000
CREATED:20220504T154245Z
LAST-MODIFIED:20220520T162842Z
UID:12335-1654290000-1654304400@test.heisafeesten.info
SUMMARY:Flabber Feest
DESCRIPTION:Flabber Feest met SBS Sounds\, DJ Hans en natuurlijk Flabbergasted. Dit energieke duo doet je versteld staan en neemt je mee op een reis langs de 90’s\, 00’s enalle top platen van nu.Zet je schrap vooreen heerlijke mix aanGuilty Pleasures&HeerlijkeHitjes.De mc/dj combinatie stond al op onder andere Dreamfields\, Emporium\, FestyLand\,HockeyLoverz en 7th Sunday\, naast uiteraard tal van clubshows en andere toffe boekingen.Be Flabbergasted!
URL:https://test.heisafeesten.info/event/feestavond-16-met-flabbergasted/
LOCATION:Heijen\, lijsterbesstraat 10\, Heijen\, Limburg\, 6598aw\, Nederland
ORGANIZER;CN="Heisafeesten":MAILTO:info@heisafeesten.info
END:VEVENT
BEGIN:VEVENT
DTSTART;TZID=Europe/Amsterdam:20220604T100000
DTEND;TZID=Europe/Amsterdam:20220604T130000
DTSTAMP:20260425T185000
CREATED:20220519T140721Z
LAST-MODIFIED:20220519T140721Z
UID:12656-1654336800-1654347600@test.heisafeesten.info
SUMMARY:Videopresentatie 750 jaar heijen
DESCRIPTION:Op zaterdag 4 juni zal van 10.00 u. tot 13.00 u. een doorlopende videopresentatie zijn in het kasteel. De presentatie is een opname van de lezing van historicus Rien van den Brand van september 2021. Dhr. Van den Brand heeft toen in thema’s zeer interessante zaken toegelicht uit de historie van Heijen van de periode 1250 tot 1900.
URL:https://test.heisafeesten.info/event/videopresentatie-750-jaar-heijen/
LOCATION:Heijen\, lijsterbesstraat 10\, Heijen\, Limburg\, 6598aw\, Nederland
ORGANIZER;CN="Heisafeesten":MAILTO:info@heisafeesten.info
END:VEVENT
BEGIN:VEVENT
DTSTART;TZID=Europe/Amsterdam:20220604T100000
DTEND;TZID=Europe/Amsterdam:20220604T180000
DTSTAMP:20260425T185000
CREATED:20220425T122058Z
LAST-MODIFIED:20220425T122058Z
UID:12333-1654336800-1654365600@test.heisafeesten.info
SUMMARY:Historisch Kampement
DESCRIPTION:Er zullen van allerlei historische invloeden te beleven zijn\, denk aan een kampement met ridders\, vuur\, paarden\, kanonnen\, klederdracht\, ambachtswerk en nog veel meer moois! Voor jong en oud!\nVrijdag tot en met zondag elke dag kun je deze prachtige historie komen proeven!\n \nDe verschillende ambachtslieden zullen hun ambacht uit te voeren rondom Huys Heijen. Geef je ogen goed de kost\, er valt van alles te bekijken en te proeven. Ook verschillende shows zullen opgevoerd worden door Rin ende Maes in samenwerking met het Sint Dionysus Gilde Heijen.
URL:https://test.heisafeesten.info/event/historisch-kampement-2022-06-04-2/
LOCATION:Heijen\, lijsterbesstraat 10\, Heijen\, Limburg\, 6598aw\, Nederland
ORGANIZER;CN="Heisafeesten":MAILTO:info@heisafeesten.info
END:VEVENT
BEGIN:VEVENT
DTSTART;TZID=Europe/Amsterdam:20220604T130000
DTEND;TZID=Europe/Amsterdam:20220604T133000
DTSTAMP:20260425T185000
CREATED:20220425T123612Z
LAST-MODIFIED:20220504T153541Z
UID:12345-1654347600-1654349400@test.heisafeesten.info
SUMMARY:Bestorming van het kasteel
DESCRIPTION:Op zaterdag en zondag keren de oorspronkelijke bewoners weer terug naar kasteel Heijen. De Hertog van Gelre heeft zijn zinnen gezet op het prachtige Heijse Kasteel maar of de huidige bewoners bereid zijn om daar weg te gaan? \nGelukkig is daar nog altijd het Gilde van Heijen die het kasteel met hand en tand gaan verdedigen. Hoe gaat dat aflopen?
URL:https://test.heisafeesten.info/event/bestorming-van-het-kasteel/
LOCATION:Heijen\, lijsterbesstraat 10\, Heijen\, Limburg\, 6598aw\, Nederland
ORGANIZER;CN="Heisafeesten":MAILTO:info@heisafeesten.info
END:VEVENT
BEGIN:VEVENT
DTSTART;TZID=Europe/Amsterdam:20220604T140000
DTEND;TZID=Europe/Amsterdam:20220604T170000
DTSTAMP:20260425T185000
CREATED:20220505T133252Z
LAST-MODIFIED:20220505T133252Z
UID:12350-1654351200-1654362000@test.heisafeesten.info
SUMMARY:Spätshoppen met Die Original Maastaler en  de Revue groep
DESCRIPTION:Van 14:00 tot 17:00 uur in de tent begint Die Original Maastaler prachtige muziek te spelen. Ook de Heijse Revue Groep heeft weer iets moois in petto!
URL:https://test.heisafeesten.info/event/spatshoppen-met-die-original-maastaler-en-de-revue-groep/
LOCATION:Heijen\, lijsterbesstraat 10\, Heijen\, Limburg\, 6598aw\, Nederland
ORGANIZER;CN="Heisafeesten":MAILTO:info@heisafeesten.info
END:VEVENT
BEGIN:VEVENT
DTSTART;TZID=Europe/Amsterdam:20220604T203000
DTEND;TZID=Europe/Amsterdam:20220605T010000
DTSTAMP:20260425T185000
CREATED:20220504T155107Z
LAST-MODIFIED:20220520T163019Z
UID:12354-1654374600-1654390800@test.heisafeesten.info
SUMMARY:Heijse Herrie
DESCRIPTION:Feestavond Heijse Herrie met SBS Sounds en Afslag7. \nVanaf 20:30 uur de start van de ouderwetse feestavond in de tent!Afslag 7 sgaat de tent op Heijse bodem op zijn grondveste doen trillen! Een avond vol muziek\, sfeer en feest. Met een repertoire zo breed als Arnold Schwarzenegger\, is er voor ieder wat wils. Van André Hazes tot ZZ Top en van Skihut tot Walking on Sunshine. Nederlandstalig\, rock\, feest\, disco\, pop\, dance\, top-40\, folk\, klassiekers – het volgt elkaar allemaal in razend tempo op bij Partyband Afslag 7. \nLos gaan doen we tot 01:00 uur. Hierna worden de deuren bij de Vrienden van Heijen geopend voor een afzakkertje!
URL:https://test.heisafeesten.info/event/feestavond-met-afslag-7/
LOCATION:Heijen\, lijsterbesstraat 10\, Heijen\, Limburg\, 6598aw\, Nederland
CATEGORIES:Evenementen
ORGANIZER;CN="Heisafeesten":MAILTO:info@heisafeesten.info
END:VEVENT
END:VCALENDAR