BEGIN:VCALENDAR
VERSION:2.0
PRODID:-//Heisa Feesten - ECPv6.15.20//NONSGML v1.0//EN
CALSCALE:GREGORIAN
METHOD:PUBLISH
X-ORIGINAL-URL:https://test.heisafeesten.info
X-WR-CALDESC:Evenementen voor Heisa Feesten
REFRESH-INTERVAL;VALUE=DURATION:PT1H
X-Robots-Tag:noindex
X-PUBLISHED-TTL:PT1H
BEGIN:VTIMEZONE
TZID:Europe/Amsterdam
BEGIN:DAYLIGHT
TZOFFSETFROM:+0100
TZOFFSETTO:+0200
TZNAME:CEST
DTSTART:20240331T010000
END:DAYLIGHT
BEGIN:STANDARD
TZOFFSETFROM:+0200
TZOFFSETTO:+0100
TZNAME:CET
DTSTART:20241027T010000
END:STANDARD
BEGIN:DAYLIGHT
TZOFFSETFROM:+0100
TZOFFSETTO:+0200
TZNAME:CEST
DTSTART:20250330T010000
END:DAYLIGHT
BEGIN:STANDARD
TZOFFSETFROM:+0200
TZOFFSETTO:+0100
TZNAME:CET
DTSTART:20251026T010000
END:STANDARD
BEGIN:DAYLIGHT
TZOFFSETFROM:+0100
TZOFFSETTO:+0200
TZNAME:CEST
DTSTART:20260329T010000
END:DAYLIGHT
BEGIN:STANDARD
TZOFFSETFROM:+0200
TZOFFSETTO:+0100
TZNAME:CET
DTSTART:20261025T010000
END:STANDARD
END:VTIMEZONE
BEGIN:VEVENT
DTSTART;VALUE=DATE:20250603
DTEND;VALUE=DATE:20250609
DTSTAMP:20260421T130215
CREATED:20250527T173737Z
LAST-MODIFIED:20250527T175106Z
UID:15816-1748908800-1749427199@test.heisafeesten.info
SUMMARY:Wimpel
DESCRIPTION:🎉 Support de Heisa – Hang samen met ons de vlag uit! 🎉 \nLaat zien dat jij erbij hoort en steun de Heisa Feesten Heijen met onze unieke Heisa-wimpel! Samen kleuren we het dorp in Heisa-stijl en maken we er een onvergetelijk feest van. \n🟣 Wat kost dat?\nVoor slechts €9\,- of in de tent voor 3 Heisa-muntjes is de wimpel van jou! \n📍 Waar en wanneer?\nDe wimpel is na bestellen via de site op te halen in de Heisa-tent\, elke avond van 3 t/m 6 juni. \nKom langs\, scoor jouw wimpel en hang ‘m trots uit! Samen maken we er één groot feest van! 💜💛
URL:https://test.heisafeesten.info/event/wimpel/
LOCATION:Heijen\, lijsterbesstraat 10\, Heijen\, Limburg\, 6598aw\, Nederland
CATEGORIES:Evenementen
ATTACH;FMTTYPE=image/jpeg:https://test.heisafeesten.info/wp-content/uploads/2025/05/WhatsApp-Image-2025-05-27-at-19.29.04-2-e1748367407367.jpeg
ORGANIZER;CN="Heisafeesten":MAILTO:info@heisafeesten.info
END:VEVENT
END:VCALENDAR