BEGIN:VCALENDAR
VERSION:2.0
PRODID:-//Heisa Feesten - ECPv6.15.20//NONSGML v1.0//EN
CALSCALE:GREGORIAN
METHOD:PUBLISH
X-ORIGINAL-URL:https://test.heisafeesten.info
X-WR-CALDESC:Evenementen voor Heisa Feesten
REFRESH-INTERVAL;VALUE=DURATION:PT1H
X-Robots-Tag:noindex
X-PUBLISHED-TTL:PT1H
BEGIN:VTIMEZONE
TZID:Europe/Amsterdam
BEGIN:DAYLIGHT
TZOFFSETFROM:+0100
TZOFFSETTO:+0200
TZNAME:CEST
DTSTART:20250330T010000
END:DAYLIGHT
BEGIN:STANDARD
TZOFFSETFROM:+0200
TZOFFSETTO:+0100
TZNAME:CET
DTSTART:20251026T010000
END:STANDARD
BEGIN:DAYLIGHT
TZOFFSETFROM:+0100
TZOFFSETTO:+0200
TZNAME:CEST
DTSTART:20260329T010000
END:DAYLIGHT
BEGIN:STANDARD
TZOFFSETFROM:+0200
TZOFFSETTO:+0100
TZNAME:CET
DTSTART:20261025T010000
END:STANDARD
BEGIN:DAYLIGHT
TZOFFSETFROM:+0100
TZOFFSETTO:+0200
TZNAME:CEST
DTSTART:20270328T010000
END:DAYLIGHT
BEGIN:STANDARD
TZOFFSETFROM:+0200
TZOFFSETTO:+0100
TZNAME:CET
DTSTART:20271031T010000
END:STANDARD
END:VTIMEZONE
BEGIN:VEVENT
DTSTART;TZID=Europe/Amsterdam:20260522T183000
DTEND;TZID=Europe/Amsterdam:20260522T203000
DTSTAMP:20260420T190222
CREATED:20260220T124933Z
LAST-MODIFIED:20260220T131917Z
UID:16363-1779474600-1779481800@test.heisafeesten.info
SUMMARY:Kinderdisco
DESCRIPTION:Trek je dansschoenen aan en je mooiste feestoutfit\,  want op vrijdag 22 mei barst het feest los! 🎈 We starten het Pinksterweekend met een spetterende kinderdisco\, vol met de leukste hits\, flitsende lichten en natuurlijk veel gezelligheid. 💃🕺 \nKom samen met je vrienden en vriendinnen en laat je beste dansmoves zien! \nMis het niet en zorg dat je erbij bent! 🎊
URL:https://test.heisafeesten.info/event/kinderdisco-2/
LOCATION:Heijen\, lijsterbesstraat 10\, Heijen\, Limburg\, 6598aw\, Nederland
CATEGORIES:Evenementen
ATTACH;FMTTYPE=image/jpeg:https://test.heisafeesten.info/wp-content/uploads/2024/06/DSC_0007-scaled.jpg
ORGANIZER;CN="Heisafeesten":MAILTO:info@heisafeesten.info
END:VEVENT
END:VCALENDAR