BEGIN:VCALENDAR
VERSION:2.0
PRODID:-//Heisa Feesten - ECPv6.15.20//NONSGML v1.0//EN
CALSCALE:GREGORIAN
METHOD:PUBLISH
X-WR-CALNAME:Heisa Feesten
X-ORIGINAL-URL:https://test.heisafeesten.info
X-WR-CALDESC:Evenementen voor Heisa Feesten
REFRESH-INTERVAL;VALUE=DURATION:PT1H
X-Robots-Tag:noindex
X-PUBLISHED-TTL:PT1H
BEGIN:VTIMEZONE
TZID:Europe/Amsterdam
BEGIN:DAYLIGHT
TZOFFSETFROM:+0100
TZOFFSETTO:+0200
TZNAME:CEST
DTSTART:20250330T010000
END:DAYLIGHT
BEGIN:STANDARD
TZOFFSETFROM:+0200
TZOFFSETTO:+0100
TZNAME:CET
DTSTART:20251026T010000
END:STANDARD
BEGIN:DAYLIGHT
TZOFFSETFROM:+0100
TZOFFSETTO:+0200
TZNAME:CEST
DTSTART:20260329T010000
END:DAYLIGHT
BEGIN:STANDARD
TZOFFSETFROM:+0200
TZOFFSETTO:+0100
TZNAME:CET
DTSTART:20261025T010000
END:STANDARD
BEGIN:DAYLIGHT
TZOFFSETFROM:+0100
TZOFFSETTO:+0200
TZNAME:CEST
DTSTART:20270328T010000
END:DAYLIGHT
BEGIN:STANDARD
TZOFFSETFROM:+0200
TZOFFSETTO:+0100
TZNAME:CET
DTSTART:20271031T010000
END:STANDARD
END:VTIMEZONE
BEGIN:VEVENT
DTSTART;TZID=Europe/Amsterdam:20260524T113000
DTEND;TZID=Europe/Amsterdam:20260524T140000
DTSTAMP:20260423T001602
CREATED:20260220T165124Z
LAST-MODIFIED:20260220T170845Z
UID:16384-1779622200-1779631200@test.heisafeesten.info
SUMMARY:Heijs gezellig
DESCRIPTION:Op Pinksterzondag nodigen we iedereen van harte uit om na de heilige mis gezellig te blijven hangen bij de Heisa Feesten. Vanaf 11:30 tot 14:00 uur is er van alles te beleven voor jong en oud! \n\n🌵 Wild West‑spellen\nStap binnen in onze Wild West‑wereld! Test je vaardigheden tijdens verschillende spannende en grappige spelletjes. Pret gegarandeerd voor het hele gezin! \n☕ Koffie\, thee & vers gebak\nDe geur van verse koffie en thee staat je al op te wachten. Bovendien serveren we heerlijk gebak van de lokale bakker – vers\, ambachtelijk en té lekker om te laten staan.
URL:https://test.heisafeesten.info/event/heijs-gezellig-3/
LOCATION:Heijen\, lijsterbesstraat 10\, Heijen\, Limburg\, 6598aw\, Nederland
ATTACH;FMTTYPE=image/jpeg:https://test.heisafeesten.info/wp-content/uploads/2025/08/DSC_0120-scaled.jpg
ORGANIZER;CN="Heisafeesten":MAILTO:info@heisafeesten.info
END:VEVENT
BEGIN:VEVENT
DTSTART;TZID=Europe/Amsterdam:20260524T140000
DTEND;TZID=Europe/Amsterdam:20260524T150000
DTSTAMP:20260423T001602
CREATED:20260220T170235Z
LAST-MODIFIED:20260220T170235Z
UID:16389-1779631200-1779634800@test.heisafeesten.info
SUMMARY:Dansgarde
DESCRIPTION:Kom en geniet van een spetterend optreden van onze eigen dansgarde tijdens het dorpsfeest met Pinksteren! Deze getalenteerde groep zal ons verrassen met hun energieke en kleurrijke dansoptredens binnen het thema. \nMis deze geweldige show niet en kom samen met ons de feestelijke sfeer beleven. Het belooft een middag vol plezier\, muziek en dans te worden. We kijken ernaar uit om jullie allemaal te zien!
URL:https://test.heisafeesten.info/event/dansgarde-2/
LOCATION:Heijen\, lijsterbesstraat 10\, Heijen\, Limburg\, 6598aw\, Nederland
CATEGORIES:Evenementen
ATTACH;FMTTYPE=image/jpeg:https://test.heisafeesten.info/wp-content/uploads/2024/06/DSC_0642-scaled.jpg
ORGANIZER;CN="Heisafeesten":MAILTO:info@heisafeesten.info
END:VEVENT
BEGIN:VEVENT
DTSTART;TZID=Europe/Amsterdam:20260524T140000
DTEND;TZID=Europe/Amsterdam:20260524T200000
DTSTAMP:20260423T001602
CREATED:20260220T170804Z
LAST-MODIFIED:20260220T170804Z
UID:16393-1779631200-1779652800@test.heisafeesten.info
SUMMARY:Feest middag
DESCRIPTION:Ons programma voor de feestmiddag blijft nog even geheim\, maar we beloven een gezellige middag vol verrassingen.\nKom langs\, laat je verrassen en geniet van de echte Heisa‑sfeer!
URL:https://test.heisafeesten.info/event/feest-middag/
LOCATION:Heijen\, lijsterbesstraat 10\, Heijen\, Limburg\, 6598aw\, Nederland
CATEGORIES:Evenementen
ATTACH;FMTTYPE=image/jpeg:https://test.heisafeesten.info/wp-content/uploads/2026/02/pexels-juliasakelli-4245297-scaled.jpg
ORGANIZER;CN="Heisafeesten":MAILTO:info@heisafeesten.info
END:VEVENT
END:VCALENDAR