BEGIN:VCALENDAR
VERSION:2.0
PRODID:-//Heisa Feesten - ECPv6.15.20//NONSGML v1.0//EN
CALSCALE:GREGORIAN
METHOD:PUBLISH
X-WR-CALNAME:Heisa Feesten
X-ORIGINAL-URL:https://test.heisafeesten.info
X-WR-CALDESC:Evenementen voor Heisa Feesten
REFRESH-INTERVAL;VALUE=DURATION:PT1H
X-Robots-Tag:noindex
X-PUBLISHED-TTL:PT1H
BEGIN:VTIMEZONE
TZID:Europe/Amsterdam
BEGIN:DAYLIGHT
TZOFFSETFROM:+0100
TZOFFSETTO:+0200
TZNAME:CEST
DTSTART:20230326T010000
END:DAYLIGHT
BEGIN:STANDARD
TZOFFSETFROM:+0200
TZOFFSETTO:+0100
TZNAME:CET
DTSTART:20231029T010000
END:STANDARD
BEGIN:DAYLIGHT
TZOFFSETFROM:+0100
TZOFFSETTO:+0200
TZNAME:CEST
DTSTART:20240331T010000
END:DAYLIGHT
BEGIN:STANDARD
TZOFFSETFROM:+0200
TZOFFSETTO:+0100
TZNAME:CET
DTSTART:20241027T010000
END:STANDARD
BEGIN:DAYLIGHT
TZOFFSETFROM:+0100
TZOFFSETTO:+0200
TZNAME:CEST
DTSTART:20250330T010000
END:DAYLIGHT
BEGIN:STANDARD
TZOFFSETFROM:+0200
TZOFFSETTO:+0100
TZNAME:CET
DTSTART:20251026T010000
END:STANDARD
END:VTIMEZONE
BEGIN:VEVENT
DTSTART;TZID=Europe/Amsterdam:20240517T160000
DTEND;TZID=Europe/Amsterdam:20240517T235900
DTSTAMP:20260422T045713
CREATED:20240408T183210Z
LAST-MODIFIED:20240408T183210Z
UID:13753-1715961600-1715990340@test.heisafeesten.info
SUMMARY:VrijMiBo
DESCRIPTION:Op vrijdag 17 mei barst het weer los: de Heisa komt eraan! En we trappen het feestweekend af met\neen vrijdagmiddagborrel waar je u tegen zegt! Dus gooi die werkstress van je af en kom vanaf 16.00u gezellig bij ons langs voor een welverdiend drankje. Want laten we eerlijk zijn\, wat is er nu beter dan het weekend inluiden met een goed glas in de hand en een hoop gezelligheid om je heen? Zorg dat je erbij bent\, want deze VrijMiBo belooft legendarisch te worden met de tunes van DJ Frenske.
URL:https://test.heisafeesten.info/event/vrijmibo/
LOCATION:Heijen\, lijsterbesstraat 10\, Heijen\, Limburg\, 6598aw\, Nederland
ATTACH;FMTTYPE=image/jpeg:https://test.heisafeesten.info/wp-content/uploads/2024/04/pexels-cottonbro-studio-5530167-1-scaled.jpg
ORGANIZER;CN="Heisafeesten":MAILTO:info@heisafeesten.info
END:VEVENT
BEGIN:VEVENT
DTSTART;TZID=Europe/Amsterdam:20240517T183000
DTEND;TZID=Europe/Amsterdam:20240517T210000
DTSTAMP:20260422T045713
CREATED:20240409T154933Z
LAST-MODIFIED:20240409T154933Z
UID:13760-1715970600-1715979600@test.heisafeesten.info
SUMMARY:Jeugddisco
DESCRIPTION:Het is weer zover! De Heijse jeugd krijgt ook dit jaar de kans om hun dansmoves te laten zien. Vanaf\n18.30u zijn ze van harte welkom\, wat is er leuker dan die energieke spruiten te zien swingen op de\ndansvloer? De entree is gratis! Ouders\, jullie zijn van harte uitgenodigd om jullie kinderen af te zetten\nen gezellig te blijven hangen op de VrijMiBo. Terwijl jullie genieten van een drankje\, kunnen de kids\nonbezorgd plezier maken. Onthoud wel dat de jeugddisco om 21.00u weer is afgelopen\, dus zorg\nervoor dat je op tijd bent om je kleine feestbeesten op te halen!
URL:https://test.heisafeesten.info/event/jeugddisco-2/
LOCATION:Heijen\, lijsterbesstraat 10\, Heijen\, Limburg\, 6598aw\, Nederland
ATTACH;FMTTYPE=image/jpeg:https://test.heisafeesten.info/wp-content/uploads/2024/04/WhatsApp-Image-2024-03-18-at-12.19.11.jpeg
ORGANIZER;CN="Heisafeesten":MAILTO:info@heisafeesten.info
END:VEVENT
BEGIN:VEVENT
DTSTART;TZID=Europe/Amsterdam:20240518T123000
DTEND;TZID=Europe/Amsterdam:20240518T133000
DTSTAMP:20260422T045713
CREATED:20240409T155103Z
LAST-MODIFIED:20240409T155103Z
UID:13765-1716035400-1716039000@test.heisafeesten.info
SUMMARY:Heijs koffie-uurtje
DESCRIPTION:Om 12.30u gaat de tent open en verwelkomen we je met open armen. Je kunt dan een heerlijk kopje\nkoffie komen drinken! En alsof dat nog niet genoeg is\, hebben we een speciale traktatie voor je: tot\n13.30u krijg je het tweede kopje helemaal gratis! Dat is pas een zoete deal. Maar wacht\, er is meer!\nWe hebben ook overheerlijke gebakjes\, vers gebakken door de bakker. Dus kom gezellig langs\, geniet van de sfeer en verwen jezelf met een lekker bakkie en een smakelijk gebakje. We kijken ernaar uit om je te zien!
URL:https://test.heisafeesten.info/event/heijs-koffie-uurtje/
LOCATION:Heijen\, lijsterbesstraat 10\, Heijen\, Limburg\, 6598aw\, Nederland
ATTACH;FMTTYPE=image/jpeg:https://test.heisafeesten.info/wp-content/uploads/2024/04/WhatsApp-Image-2024-03-18-at-12.07.11.jpeg
ORGANIZER;CN="Heisafeesten":MAILTO:info@heisafeesten.info
END:VEVENT
BEGIN:VEVENT
DTSTART;TZID=Europe/Amsterdam:20240518T140000
DTEND;TZID=Europe/Amsterdam:20240518T170000
DTSTAMP:20260422T045713
CREATED:20240409T155344Z
LAST-MODIFIED:20240409T155344Z
UID:13770-1716040800-1716051600@test.heisafeesten.info
SUMMARY:Muziek bingo en live muziek
DESCRIPTION:Get ready voor een muzikaal avontuur op zaterdagmiddag! Om 13.30u trappen we af met de enige\nechte muziekbingo\, waar de noten je meenemen op een reis door de tijd. Herken jij alle hits? Haal je\nbingo kaarten bij de kassa en maak je klaar voor een muzikale uitdaging vol gezelligheid.\nDat is nog niet alles wat de zaterdagmiddag te bieden heeft! Om 15.00u laten we de live muziek los\,\nmet deuntjes die je rechtstreeks terugvoeren naar die nostalgische momenten. Zorg dat je op tijd\nbent zodat je verzekerd bent van een goede plek\, want naast de onvergetelijke muziekervaring\,\nwachten er ook leuke prijzen op de winnaars van de muziekbingo. Mis dit muzikale festijn niet en\nbeleef een middag vol plezier\, muziek en spannende prijzen!
URL:https://test.heisafeesten.info/event/muziek-bingo-en-live-muziek/
LOCATION:Heijen\, lijsterbesstraat 10\, Heijen\, Limburg\, 6598aw\, Nederland
ATTACH;FMTTYPE=image/jpeg:https://test.heisafeesten.info/wp-content/uploads/2024/04/pexels-tatiana-аzatskaya-8803363-scaled.jpg
ORGANIZER;CN="Heisafeesten":MAILTO:info@heisafeesten.info
END:VEVENT
BEGIN:VEVENT
DTSTART;TZID=Europe/Amsterdam:20240518T203000
DTEND;TZID=Europe/Amsterdam:20240519T030000
DTSTAMP:20260422T045713
CREATED:20240408T163440Z
LAST-MODIFIED:20240409T201800Z
UID:13742-1716064200-1716087600@test.heisafeesten.info
SUMMARY:Knallermann
DESCRIPTION:De klok slaat 20.30u en dat betekent maar één ding: de tent opent zijn deuren voor een knallend feest! Maak je klaar\, want Partyband Knallermann staat te popelen om alle registers open te trekken en er een fantastische avond van te maken. Ze beloven een feest met toeters en bellen\, waar de energie vanaf spat en de dansvloer niet meer veilig is! \nWil jij dit spektakel niet missen? Zorg dan dat je jouw ticket bemachtigt voor slechts €13\,50 in de voorverkoop\, dit kan op deze pagina. Aan de deur betaal je €15\,-. Met Knallermann achter de microfoons is een geweldige avond gegarandeerd. Dus\, trek je dansschoenen aan\, verzamel je vrienden en laten we er samen voor zorgen dat de tent staat te schudden. Zien we je daar? Het wordt een feest om niet te vergeten!
URL:https://test.heisafeesten.info/event/knallermann/
LOCATION:Heijen\, lijsterbesstraat 10\, Heijen\, Limburg\, 6598aw\, Nederland
ATTACH;FMTTYPE=image/jpeg:https://test.heisafeesten.info/wp-content/uploads/2024/04/Knallermann_Live-Photo-2016-01.jpg
ORGANIZER;CN="Heisafeesten":MAILTO:info@heisafeesten.info
END:VEVENT
BEGIN:VEVENT
DTSTART;TZID=Europe/Amsterdam:20240519T100000
DTEND;TZID=Europe/Amsterdam:20240519T111500
DTSTAMP:20260422T045713
CREATED:20240409T155750Z
LAST-MODIFIED:20240409T161547Z
UID:13776-1716112800-1716117300@test.heisafeesten.info
SUMMARY:Heilige mis
DESCRIPTION:Op zondagochtend om 10.00u laten we de zon schijnen op onze pinkstermis\, geleid door niemand\nminder dan kapelaan Slaven Brajkovic. Een heilig moment waarbij we samenkomen om de\npinkstergeest te vieren en verbondenheid te ervaren.
URL:https://test.heisafeesten.info/event/heilige-mis-3/
LOCATION:Limburg
ATTACH;FMTTYPE=image/jpeg:https://test.heisafeesten.info/wp-content/uploads/2024/04/Heisa2023_-149-scaled.jpg
END:VEVENT
BEGIN:VEVENT
DTSTART;TZID=Europe/Amsterdam:20240519T110000
DTEND;TZID=Europe/Amsterdam:20240519T123000
DTSTAMP:20260422T045713
CREATED:20240409T155927Z
LAST-MODIFIED:20240409T161442Z
UID:13781-1716116400-1716121800@test.heisafeesten.info
SUMMARY:Heijs gezellig
DESCRIPTION:Vanaf 11.15 nodigen we je uit om te blijven hangen en samen te genieten van de warmte van\ngemeenschap en een lekker kopje koffie. En als kers op de taart serveren we ook verrukkelijk gebak.\nEen perfecte gelegenheid om gezellig met elkaar te kletsen.
URL:https://test.heisafeesten.info/event/heijs-gezellig/
LOCATION:Heijen\, lijsterbesstraat 10\, Heijen\, Limburg\, 6598aw\, Nederland
ATTACH;FMTTYPE=image/jpeg:https://test.heisafeesten.info/wp-content/uploads/2024/04/Heisa2023_-312-1-scaled.jpg
ORGANIZER;CN="Heisafeesten":MAILTO:info@heisafeesten.info
END:VEVENT
BEGIN:VEVENT
DTSTART;TZID=Europe/Amsterdam:20240519T123000
DTEND;TZID=Europe/Amsterdam:20240519T133000
DTSTAMP:20260422T045713
CREATED:20240409T160035Z
LAST-MODIFIED:20240409T161633Z
UID:13785-1716121800-1716125400@test.heisafeesten.info
SUMMARY:Dansgarde
DESCRIPTION:Stap binnen in de magische wereld van de Heijse Dansgarde tijdens dit pinksterweekend! Bereid je\nvoor op een waar circusspektakel dat je versteld zal doen staan. Vanaf 12.30u tot 13.30u zullen zij\nons betoveren met een adembenemende show vol fantastische trucs en betoverende dansjes.\nDit is niet zomaar een optreden\, dit is een ervaring die je niet mag missen! Laat je meeslepen door de\nenergie en de passie van de dansgarde terwijl ze de tent op zijn kop zetten met hun indrukwekkende\nacts. Neem je vrienden en familie mee en beleef samen een onvergetelijk moment vol plezier en\nverwondering. Het belooft een spektakel te worden waar nog lang over nagepraat zal worden. Mis\nhet niet!
URL:https://test.heisafeesten.info/event/dansgarde/
LOCATION:Heijen\, lijsterbesstraat 10\, Heijen\, Limburg\, 6598aw\, Nederland
ATTACH;FMTTYPE=image/jpeg:https://test.heisafeesten.info/wp-content/uploads/2024/04/Heisa2023_-113-scaled.jpg
ORGANIZER;CN="Heisafeesten":MAILTO:info@heisafeesten.info
END:VEVENT
BEGIN:VEVENT
DTSTART;TZID=Europe/Amsterdam:20240519T140000
DTEND;TZID=Europe/Amsterdam:20240519T210000
DTSTAMP:20260422T045713
CREATED:20240409T160135Z
LAST-MODIFIED:20240409T160135Z
UID:13789-1716127200-1716152400@test.heisafeesten.info
SUMMARY:Feestmiddag
DESCRIPTION:Op de feestmiddag van 19 mei is er voor ieder wat wils! De kinderen kunnen zich helemaal uitleven\nmet leuke activiteiten zoals speurtochten en schminken. Terwijl ze plezier hebben\, kunnen de ouders\ngenieten van de diverse optredens die verzorgd worden door niemand minder dan zanger Owen van\nKol en zanger Menno Gruijters\nMaar wacht\, er is ook iets speciaals voor de 18-plussers! We dagen jullie uit om de snelste tijd neer\nte zetten en de titel van de beste &quot;atter&quot; van Heijen te veroveren. Durf jij de uitdaging aan te gaan?\nKom dan langs en laat zien wat je kunt! Het belooft een middag vol plezier\, muziek en uitdagingen te\nworden. We zien jullie daar!
URL:https://test.heisafeesten.info/event/feestmiddag/
LOCATION:Heijen\, lijsterbesstraat 10\, Heijen\, Limburg\, 6598aw\, Nederland
ATTACH;FMTTYPE=image/jpeg:https://test.heisafeesten.info/wp-content/uploads/2024/04/WhatsApp-Image-2024-03-27-at-19.07.39.jpeg
ORGANIZER;CN="Heisafeesten":MAILTO:info@heisafeesten.info
END:VEVENT
END:VCALENDAR