BEGIN:VCALENDAR
VERSION:2.0
PRODID:-//Heisa Feesten - ECPv6.15.20//NONSGML v1.0//EN
CALSCALE:GREGORIAN
METHOD:PUBLISH
X-WR-CALNAME:Heisa Feesten
X-ORIGINAL-URL:https://test.heisafeesten.info
X-WR-CALDESC:Evenementen voor Heisa Feesten
REFRESH-INTERVAL;VALUE=DURATION:PT1H
X-Robots-Tag:noindex
X-PUBLISHED-TTL:PT1H
BEGIN:VTIMEZONE
TZID:Europe/Amsterdam
BEGIN:DAYLIGHT
TZOFFSETFROM:+0100
TZOFFSETTO:+0200
TZNAME:CEST
DTSTART:20240331T010000
END:DAYLIGHT
BEGIN:STANDARD
TZOFFSETFROM:+0200
TZOFFSETTO:+0100
TZNAME:CET
DTSTART:20241027T010000
END:STANDARD
BEGIN:DAYLIGHT
TZOFFSETFROM:+0100
TZOFFSETTO:+0200
TZNAME:CEST
DTSTART:20250330T010000
END:DAYLIGHT
BEGIN:STANDARD
TZOFFSETFROM:+0200
TZOFFSETTO:+0100
TZNAME:CET
DTSTART:20251026T010000
END:STANDARD
BEGIN:DAYLIGHT
TZOFFSETFROM:+0100
TZOFFSETTO:+0200
TZNAME:CEST
DTSTART:20260329T010000
END:DAYLIGHT
BEGIN:STANDARD
TZOFFSETFROM:+0200
TZOFFSETTO:+0100
TZNAME:CET
DTSTART:20261025T010000
END:STANDARD
END:VTIMEZONE
BEGIN:VEVENT
DTSTART;VALUE=DATE:20250603
DTEND;VALUE=DATE:20250609
DTSTAMP:20260421T074201
CREATED:20250527T173737Z
LAST-MODIFIED:20250527T175106Z
UID:15816-1748908800-1749427199@test.heisafeesten.info
SUMMARY:Wimpel
DESCRIPTION:🎉 Support de Heisa – Hang samen met ons de vlag uit! 🎉 \nLaat zien dat jij erbij hoort en steun de Heisa Feesten Heijen met onze unieke Heisa-wimpel! Samen kleuren we het dorp in Heisa-stijl en maken we er een onvergetelijk feest van. \n🟣 Wat kost dat?\nVoor slechts €9\,- of in de tent voor 3 Heisa-muntjes is de wimpel van jou! \n📍 Waar en wanneer?\nDe wimpel is na bestellen via de site op te halen in de Heisa-tent\, elke avond van 3 t/m 6 juni. \nKom langs\, scoor jouw wimpel en hang ‘m trots uit! Samen maken we er één groot feest van! 💜💛
URL:https://test.heisafeesten.info/event/wimpel/
LOCATION:Heijen\, lijsterbesstraat 10\, Heijen\, Limburg\, 6598aw\, Nederland
CATEGORIES:Evenementen
ATTACH;FMTTYPE=image/jpeg:https://test.heisafeesten.info/wp-content/uploads/2025/05/WhatsApp-Image-2025-05-27-at-19.29.04-2-e1748367407367.jpeg
ORGANIZER;CN="Heisafeesten":MAILTO:info@heisafeesten.info
END:VEVENT
BEGIN:VEVENT
DTSTART;TZID=Europe/Amsterdam:20250606T160000
DTEND;TZID=Europe/Amsterdam:20250606T220000
DTSTAMP:20260421T074201
CREATED:20250226T112534Z
LAST-MODIFIED:20250406T121054Z
UID:15514-1749225600-1749247200@test.heisafeesten.info
SUMMARY:VrijMiBo
DESCRIPTION:Na het beginnende succes van vorig jaar komt ook dit jaar de VrijMiBo weer terug! Vanaf 16.00u is iedereen welkom in de tent voor een gezellig middag afsluiting en een goed begin van het weekend samen met onze DJ Mario en Rick Kreté. Ook is er dit jaar een lekker barbecue met vlees van de slager en broodjes van de bakker! Kortom\, alles wat je nodig hebt om het pinksterweekend fantastisch te starten.
URL:https://test.heisafeesten.info/event/vrijmibo-2/
LOCATION:Heijen\, lijsterbesstraat 10\, Heijen\, Limburg\, 6598aw\, Nederland
ATTACH;FMTTYPE=image/jpeg:https://test.heisafeesten.info/wp-content/uploads/2025/02/S127653-35-scaled.jpg
ORGANIZER;CN="Heisafeesten":MAILTO:info@heisafeesten.info
END:VEVENT
BEGIN:VEVENT
DTSTART;TZID=Europe/Amsterdam:20250606T183000
DTEND;TZID=Europe/Amsterdam:20250606T203000
DTSTAMP:20260421T074201
CREATED:20250226T112835Z
LAST-MODIFIED:20250406T121335Z
UID:15518-1749234600-1749241800@test.heisafeesten.info
SUMMARY:Kinderdisco
DESCRIPTION:Trek je dansschoenen aan en je mooiste feestoutfit\,  want op vrijdag 6 juni barst het feest los! 🎈 We starten het Pinksterweekend met een spetterende kinderdisco\, vol met de leukste hits\, flitsende lichten en natuurlijk veel gezelligheid. 💃🕺 \nKom samen met je vrienden en vriendinnen en laat je beste dansmoves zien! \nMis het niet en zorg dat je erbij bent! 🎊
URL:https://test.heisafeesten.info/event/kinderdisco/
LOCATION:Limburg
ATTACH;FMTTYPE=image/jpeg:https://test.heisafeesten.info/wp-content/uploads/2024/06/DSC_0008.jpg
END:VEVENT
BEGIN:VEVENT
DTSTART;TZID=Europe/Amsterdam:20250607T103000
DTEND;TZID=Europe/Amsterdam:20250607T120000
DTSTAMP:20260421T074201
CREATED:20250226T113447Z
LAST-MODIFIED:20250406T121031Z
UID:15522-1749292200-1749297600@test.heisafeesten.info
SUMMARY:Pimp je Rit!
DESCRIPTION:Heb jij een fiets\, step\, skelter of ander cool voertuig? Kom dan op vrijdag 7 juni in de ochtend naar de tent en versier jouw ride voor de motorzegening op zondag 8 juni! 🏁✨ \nDe organisatie zorgt voor coole versiersels\, zoals slingers\, ballonnen en stickers. Jij hoeft alleen maar je voertuig en je creativiteit mee te nemen! 🎨🎉 \nLaat jouw versierde voertuig stralen en rij op zondag trots mee tijdens de motorzegening! 🚴💨 \nMis het niet en doe mee!
URL:https://test.heisafeesten.info/event/pimp-je-rit/
LOCATION:Heijen\, lijsterbesstraat 10\, Heijen\, Limburg\, 6598aw\, Nederland
ATTACH;FMTTYPE=image/jpeg:https://test.heisafeesten.info/wp-content/uploads/2025/02/pexels-vanessa-loring-7869442-scaled.jpg
END:VEVENT
BEGIN:VEVENT
DTSTART;TZID=Europe/Amsterdam:20250607T130000
DTEND;TZID=Europe/Amsterdam:20250607T170000
DTSTAMP:20260421T074201
CREATED:20250226T113833Z
LAST-MODIFIED:20250406T121026Z
UID:15526-1749301200-1749315600@test.heisafeesten.info
SUMMARY:Feestmiddag Moonlights!
DESCRIPTION:Op zaterdag 7 juni nodigen we iedereen uit voor een gezellige middag met live muziek van het Groesbeekse duo The Moonlights! 🌟 Bekend om hun veelzijdige repertoire en unieke sound\, zorgen Angelien Liebers en Sascha Pouwels voor een onvergetelijke sfeer voor jong en oud. 🎵 \nMet meer dan 40 jaar ervaring brengen The Moonlights een mix van Nederlandse\, Duitse en Engelstalige nummers\, variërend van volksmuziek tot pop en disco. 🎶✨ Hun enthousiasme en professionele inzet maken elk optreden tot een feest! 🥳 \nKom langs en geniet van een middag vol muziek\, dans en gezelligheid. Mis het niet!
URL:https://test.heisafeesten.info/event/feestmiddag-moonlights/
LOCATION:Heijen\, lijsterbesstraat 10\, Heijen\, Limburg\, 6598aw\, Nederland
ATTACH;FMTTYPE=image/jpeg:https://test.heisafeesten.info/wp-content/uploads/2025/02/CD-Single-Hoes-4-5-2024-Voorkant-Als-de-Bouzouki-s-klinkenAfbeelding-van-WhatsApp-op-2024-04-30-om-18.44.54_17880ed2-e1743940481996.jpg
END:VEVENT
BEGIN:VEVENT
DTSTART;TZID=Europe/Amsterdam:20250607T203000
DTEND;TZID=Europe/Amsterdam:20250608T010000
DTSTAMP:20260421T074201
CREATED:20250226T114301Z
LAST-MODIFIED:20250527T174209Z
UID:15530-1749328200-1749344400@test.heisafeesten.info
SUMMARY:Feestavond met REPOP
DESCRIPTION:Maak je klaar voor een onvergetelijke avond op zaterdag 7 juni\, want de energieke feestband RePop komt naar Heijen om er een knallend feest van te maken! 🎸🥁 \nRePop is een 12-koppige coverband die bekendstaat om hun dynamische optredens en gevarieerde repertoire. Van de grootste hits uit het verleden tot de nieuwste top 40 nummers; ze spelen het allemaal! Met een mix van pop\, rock en funk weten ze iedereen op de dansvloer te krijgen. 💃🕺 \nOf je nu jong of oud bent\, deze avond belooft voor iedereen een groot feest te worden. Mis het niet en zorg dat je erbij bent om samen met RePop de nacht weg te dansen! 🎤🎷 \nTickets voorverkoop: 13\,50 \nTickets aan de deur: 15\,00
URL:https://test.heisafeesten.info/event/feestavond-met-repop/
LOCATION:Heijen\, lijsterbesstraat 10\, Heijen\, Limburg\, 6598aw\, Nederland
CATEGORIES:Evenementen
ATTACH;FMTTYPE=image/jpeg:https://test.heisafeesten.info/wp-content/uploads/2025/05/rerpoplogo-scaled.jpg
ORGANIZER;CN="Heisafeesten":MAILTO:info@heisafeesten.info
END:VEVENT
BEGIN:VEVENT
DTSTART;TZID=Europe/Amsterdam:20250608T103000
DTEND;TZID=Europe/Amsterdam:20250608T113000
DTSTAMP:20260421T074201
CREATED:20250226T134937Z
LAST-MODIFIED:20250406T121014Z
UID:15540-1749378600-1749382200@test.heisafeesten.info
SUMMARY:Heilige mis
DESCRIPTION:Kom en vier Pinksteren met ons op zondag 8 juni! Onze kapelaan zal een inspirerende Heilige Mis verzorgen\, en we zouden het geweldig vinden als u erbij bent! \nMis deze bijzondere gelegenheid niet om samen de Heilige Geest te ontvangen en dit feest in gemeenschap te vieren. We kijken ernaar uit u te verwelkomen!
URL:https://test.heisafeesten.info/event/heilige-mis-4/
LOCATION:Heijen\, lijsterbesstraat 10\, Heijen\, Limburg\, 6598aw\, Nederland
ATTACH;FMTTYPE=image/jpeg:https://test.heisafeesten.info/wp-content/uploads/2025/02/WhatsApp-Image-2025-04-06-at-13.33.26.jpeg
END:VEVENT
BEGIN:VEVENT
DTSTART;TZID=Europe/Amsterdam:20250608T113000
DTEND;TZID=Europe/Amsterdam:20250608T123000
DTSTAMP:20260421T074201
CREATED:20250226T135207Z
LAST-MODIFIED:20250406T124207Z
UID:15544-1749382200-1749385800@test.heisafeesten.info
SUMMARY:Heijs gezellig
DESCRIPTION:Na de inspirerende Heilige Mis op zondag 8 juni\, nodigen we u van harte uit voor een gezellige samenkomst met koffie en vlaai. Het belooft een heerlijke en gezellige tijd te worden! \nKom langs\, geniet van de lekkernijen en het fijne gezelschap. We kijken ernaar uit om samen met u na te praten en te genieten van een gezellige ochtend op eerste pinksterdag. Ook dit jaar is er weer overheerlijke vlaai van de bakker.
URL:https://test.heisafeesten.info/event/heijs-gezellig-2/
LOCATION:Heijen\, lijsterbesstraat 10\, Heijen\, Limburg\, 6598aw\, Nederland
ATTACH;FMTTYPE=image/jpeg:https://test.heisafeesten.info/wp-content/uploads/2024/06/DSC_0051.jpg
END:VEVENT
BEGIN:VEVENT
DTSTART;TZID=Europe/Amsterdam:20250608T123000
DTEND;TZID=Europe/Amsterdam:20250608T133000
DTSTAMP:20260421T074201
CREATED:20250226T135617Z
LAST-MODIFIED:20250406T120947Z
UID:15548-1749385800-1749389400@test.heisafeesten.info
SUMMARY:Zegening McPanthers en versierde voertuigen
DESCRIPTION:We nodigen jullie van harte uit voor de feestelijke zegening van Motorclub McPanthers\, die dit jaar hun 50-jarig jubileum vieren! Waarna de kinderen met hun versierde voertuigen ook gezegend kunnen worden. \nKom en vier dit bijzondere jubileum met hen en ons! We kijken ernaar uit om samen met jullie deze mijlpaal te vieren en de motoren te zegenen voor een veilig en gezegend motorseizoen. Na de zegening zal er een tentoonstelling zijn van speciale motoren en oude artefacten van de McPanthers!
URL:https://test.heisafeesten.info/event/zegening-mcpanthers-en-versierde-voertuigen/
LOCATION:Heijen\, lijsterbesstraat 10\, Heijen\, Limburg\, 6598aw\, Nederland
ATTACH;FMTTYPE=image/jpeg:https://test.heisafeesten.info/wp-content/uploads/2025/02/pexels-shootbyziggy-instagram-512751349-17243625-scaled.jpg
END:VEVENT
BEGIN:VEVENT
DTSTART;TZID=Europe/Amsterdam:20250608T140000
DTEND;TZID=Europe/Amsterdam:20250608T150000
DTSTAMP:20260421T074201
CREATED:20250226T140106Z
LAST-MODIFIED:20250406T120938Z
UID:15552-1749391200-1749394800@test.heisafeesten.info
SUMMARY:Dansgarde
DESCRIPTION:Kom en geniet van een spetterend optreden van onze eigen dansgarde tijdens het dorpsfeest met Pinksteren! Deze getalenteerde groep zal ons verrassen met hun energieke en kleurrijke dansoptredens binnen het thema. \nMis deze geweldige show niet en kom samen met ons de feestelijke sfeer beleven. Het belooft een middag vol plezier\, muziek en dans te worden. We kijken ernaar uit om jullie allemaal te zien!
URL:https://test.heisafeesten.info/event/15552/
LOCATION:Heijen\, lijsterbesstraat 10\, Heijen\, Limburg\, 6598aw\, Nederland
ATTACH;FMTTYPE=image/jpeg:https://test.heisafeesten.info/wp-content/uploads/2024/06/DSC_0367-scaled.jpg
END:VEVENT
BEGIN:VEVENT
DTSTART;TZID=Europe/Amsterdam:20250608T150000
DTEND;TZID=Europe/Amsterdam:20250608T230000
DTSTAMP:20260421T074201
CREATED:20250226T140630Z
LAST-MODIFIED:20250406T120931Z
UID:15561-1749394800-1749423600@test.heisafeesten.info
SUMMARY:Feestmiddag
DESCRIPTION:Op zondag 8 juni is het weer tijd voor de feestmiddag van de Heisa\, en dit jaar belooft het een onvergetelijke dag te worden! 🎉 Vanaf 15:00 uur stroomt het dorpsplein vol met vrolijke gezichten en feestelijke muziek. Zanger Ronald Reinart zal het podium betreden en ons trakteren op zijn prachtige stem 🎤\, terwijl DJ Mario de sfeer verder zal verhogen met zijn opzwepende beats 🎧. \nVoor de kinderen is er volop vermaak met springkussens en andere leuke activiteiten 🎈. Terwijl de kleintjes zich uitleven\, kunnen de volwassenen genieten van een heerlijke barbecue 🍖. De slager zorgt voor het beste vlees en de bakker levert de meest verse broodjes 🥖\, zodat iedereen kan smullen van een smakelijke maaltijd. \nEn voor de sportievelingen onder ons is er goed nieuws: de atwedstrijd van vorig jaar keert terug! 🏃‍♂️🏃‍♀️ Dit is je kans om een herkansing te nemen en te laten zien wat je in huis hebt. \nHet belooft een middag vol plezier\, muziek en gezelligheid te worden. We kijken ernaar uit om samen met jullie deze feestelijke dag te vieren en er een onvergetelijke ervaring van te maken. Tot dan! 🎊
URL:https://test.heisafeesten.info/event/feestmiddag-2/
LOCATION:Limburg
ATTACH;FMTTYPE=image/jpeg:https://test.heisafeesten.info/wp-content/uploads/2024/06/DSC_0668-scaled.jpg
END:VEVENT
END:VCALENDAR